BEGIN:VCALENDAR
VERSION:2.0
PRODID:-//Squarespace Inc/Squarespace 6//v6//EN
BEGIN:VEVENT
UID:5b5574e7352f530b8e58f1ac@squarespace.com
DTSTAMP:20180723T062625Z
DTSTART:20180728T000000Z
DTEND:20180728T030000Z
SUMMARY:Crocq
END:VEVENT
END:VCALENDAR
