BEGIN:VCALENDAR
VERSION:2.0
PRODID:-//Squarespace Inc/Squarespace 6//v6//EN
BEGIN:VEVENT
UID:5b55751faa4a995f7aaa08d1@squarespace.com
DTSTAMP:20180723T062749Z
DTSTART:20180729T000000Z
DTEND:20180729T030000Z
SUMMARY:Arley Black
END:VEVENT
END:VCALENDAR
