BEGIN:VCALENDAR
VERSION:2.0
PRODID:-//Squarespace Inc/Squarespace 6//v6//EN
BEGIN:VEVENT
UID:5b63f47d0e2e7259c33d45d2@squarespace.com
DTSTAMP:20180803T072812Z
DTSTART:20180811T000000Z
DTEND:20180811T030000Z
SUMMARY:Jerome O'Connor
END:VEVENT
END:VCALENDAR
