BEGIN:VCALENDAR
VERSION:2.0
PRODID:-//Squarespace Inc/Squarespace 6//v6//EN
BEGIN:VEVENT
UID:5b64027770a6ad7be96643ed@squarespace.com
DTSTAMP:20180803T072434Z
DTSTART:20180812T000000Z
DTEND:20180812T030000Z
SUMMARY:Truman Smith
END:VEVENT
END:VCALENDAR
