BEGIN:VCALENDAR
VERSION:2.0
PRODID:-//Squarespace Inc/Squarespace 6//v6//EN
BEGIN:VEVENT
UID:5b6406ea03ce6419bd1876ad@squarespace.com
DTSTAMP:20180803T074313Z
DTSTART:20180819T000000Z
DTEND:20180819T030000Z
SUMMARY:Michael Peter
END:VEVENT
END:VCALENDAR
