BEGIN:VCALENDAR
VERSION:2.0
PRODID:-//Squarespace Inc/Squarespace 6//v6//EN
BEGIN:VEVENT
UID:5b64042f8a922ddb0115db83@squarespace.com
DTSTAMP:20180803T073910Z
DTSTART:20180825T000000Z
DTEND:20180825T030000Z
SUMMARY:Dean Kyrwood
END:VEVENT
END:VCALENDAR
