BEGIN:VCALENDAR
VERSION:2.0
PRODID:-//Squarespace Inc/Squarespace 6//v6//EN
BEGIN:VEVENT
UID:5b82777b6d2a73bb5c169a3a@squarespace.com
DTSTAMP:20180826T095207Z
DTSTART:20180826T000000Z
DTEND:20180826T010000Z
SUMMARY:Gerda + 1
END:VEVENT
END:VCALENDAR
