BEGIN:VCALENDAR
VERSION:2.0
PRODID:-//Squarespace Inc/Squarespace 6//v6//EN
BEGIN:VEVENT
UID:5b64037203ce6419bd182b97@squarespace.com
DTSTAMP:20180803T072727Z
DTSTART:20180818T000000Z
DTEND:20180818T030000Z
SUMMARY:Ryan Patrick Daley
END:VEVENT
END:VCALENDAR
