BEGIN:VCALENDAR
VERSION:2.0
PRODID:-//Squarespace Inc/Squarespace 6//v6//EN
BEGIN:VEVENT
UID:5b63eabd352f53676d5c8309@squarespace.com
DTSTAMP:20180803T072741Z
DTSTART:20180804T000000Z
DTEND:20180804T030000Z
SUMMARY:KJ + Dave
END:VEVENT
END:VCALENDAR
