BEGIN:VCALENDAR
VERSION:2.0
PRODID:-//Squarespace Inc/Squarespace 6//v6//EN
BEGIN:VEVENT
UID:5b63efe503ce6419bd167f2b@squarespace.com
DTSTAMP:20180803T081415Z
DTSTART:20180805T000000Z
DTEND:20180805T030000Z
SUMMARY:TY
END:VEVENT
END:VCALENDAR
