BEGIN:VCALENDAR
VERSION:2.0
PRODID:-//Squarespace Inc/Squarespace 6//v6//EN
BEGIN:VEVENT
UID:5b63f39a70a6ad7be9650378@squarespace.com
DTSTAMP:20180803T072759Z
DTSTART:20180805T220000Z
DTEND:20180806T010000Z
SUMMARY:Brien McVernon
END:VEVENT
END:VCALENDAR
