BEGIN:VCALENDAR
VERSION:2.0
PRODID:-//Squarespace Inc/Squarespace 6//v6//EN
BEGIN:VEVENT
UID:5bd583cde2c48350880416b5@squarespace.com
DTSTAMP:20181028T094106Z
DTSTART:20181104T230000Z
DTEND:20181105T020000Z
SUMMARY:Aaron Hood
END:VEVENT
END:VCALENDAR
