BEGIN:VCALENDAR
VERSION:2.0
PRODID:-//Squarespace Inc/Squarespace 6//v6//EN
BEGIN:VEVENT
UID:5bd587a924a69425bd0a2d9b@squarespace.com
DTSTAMP:20181028T095731Z
DTSTART:20181110T010000Z
DTEND:20181110T160000Z
SUMMARY:Adrienne
END:VEVENT
END:VCALENDAR
