BEGIN:VCALENDAR
VERSION:2.0
PRODID:-//Squarespace Inc/Squarespace 6//v6//EN
BEGIN:VEVENT
UID:5b8a36cf562fa736b2e4fba8@squarespace.com
DTSTAMP:20180901T065303Z
DTSTART:20180909T000000Z
DTEND:20180909T030000Z
SUMMARY:Adrienne
END:VEVENT
END:VCALENDAR
