BEGIN:VCALENDAR
VERSION:2.0
PRODID:-//Squarespace Inc/Squarespace 6//v6//EN
BEGIN:VEVENT
UID:5bd581d6104c7b918a4444c8@squarespace.com
DTSTAMP:20181028T093441Z
DTSTART:20181104T000000Z
DTEND:20181104T030000Z
SUMMARY:Brien Mcvernon
END:VEVENT
END:VCALENDAR
