BEGIN:VCALENDAR
VERSION:2.0
PRODID:-//Squarespace Inc/Squarespace 6//v6//EN
BEGIN:VEVENT
UID:5bd580271905f4f40eb03efb@squarespace.com
DTSTAMP:20181028T092629Z
DTSTART:20181103T000000Z
DTEND:20181103T030000Z
SUMMARY:CrocQ
END:VEVENT
END:VCALENDAR
