BEGIN:VCALENDAR
VERSION:2.0
PRODID:-//Squarespace Inc/Squarespace 6//v6//EN
BEGIN:VEVENT
UID:5b8a32361ae6cf1d7de03022@squarespace.com
DTSTAMP:20180901T063822Z
DTSTART:20180901T000000Z
DTEND:20180901T030000Z
SUMMARY:CrocQ
END:VEVENT
END:VCALENDAR
