BEGIN:VCALENDAR
VERSION:2.0
PRODID:-//Squarespace Inc/Squarespace 6//v6//EN
BEGIN:VEVENT
UID:5bd58dc0ec212d4d88051f0e@squarespace.com
DTSTAMP:20181028T102418Z
DTSTART:20181201T010000Z
DTEND:20181201T040000Z
SUMMARY:Danny and Jake
END:VEVENT
END:VCALENDAR
