BEGIN:VCALENDAR
VERSION:2.0
PRODID:-//Squarespace Inc/Squarespace 6//v6//EN
BEGIN:VEVENT
UID:5bd58872e4966b23a9f1f307@squarespace.com
DTSTAMP:20181028T101439Z
DTSTART:20181111T010000Z
DTEND:20181111T040000Z
SUMMARY:Danny and Jake
END:VEVENT
END:VCALENDAR
