BEGIN:VCALENDAR
VERSION:2.0
PRODID:-//Squarespace Inc/Squarespace 6//v6//EN
BEGIN:VEVENT
UID:5bd58b5153450ad68f283dd4@squarespace.com
DTSTAMP:20181028T101622Z
DTSTART:20181124T010000Z
DTEND:20181124T040000Z
SUMMARY:Dean Kyrwood
END:VEVENT
END:VCALENDAR
