BEGIN:VCALENDAR
VERSION:2.0
PRODID:-//Squarespace Inc/Squarespace 6//v6//EN
BEGIN:VEVENT
UID:5b8a3b87b8a045c95ea00418@squarespace.com
DTSTAMP:20180901T071546Z
DTSTART:20180916T000000Z
DTEND:20180916T030000Z
SUMMARY:D.Love Duo
END:VEVENT
END:VCALENDAR
