BEGIN:VCALENDAR
VERSION:2.0
PRODID:-//Squarespace Inc/Squarespace 6//v6//EN
BEGIN:VEVENT
UID:5bd58492419202dce26baae9@squarespace.com
DTSTAMP:20181028T095130Z
DTSTART:20181106T170000Z
DTEND:20181106T200000Z
SUMMARY:Holly Mae
END:VEVENT
END:VCALENDAR
