BEGIN:VCALENDAR
VERSION:2.0
PRODID:-//Squarespace Inc/Squarespace 6//v6//EN
BEGIN:VEVENT
UID:5bd58d7b4785d302729ad2e6@squarespace.com
DTSTAMP:20181028T102139Z
DTSTART:20181117T010000Z
DTEND:20181117T040000Z
SUMMARY:Holly Mae
END:VEVENT
END:VCALENDAR
