BEGIN:VCALENDAR
VERSION:2.0
PRODID:-//Squarespace Inc/Squarespace 6//v6//EN
BEGIN:VEVENT
UID:5b8a360e0ebbe8ab9fed5546@squarespace.com
DTSTAMP:20180901T065037Z
DTSTART:20180908T000000Z
DTEND:20180908T030000Z
SUMMARY:Jerome O'Connor
END:VEVENT
END:VCALENDAR
