BEGIN:VCALENDAR
VERSION:2.0
PRODID:-//Squarespace Inc/Squarespace 6//v6//EN
BEGIN:VEVENT
UID:5ae40c2b1ae6cfa83d1f32b9@squarespace.com
DTSTAMP:20180428T055656Z
DTSTART:20180506T220000Z
DTEND:20180507T010000Z
SUMMARY:Jerome
GEO:-32.929361;151.784828
LOCATION:Bar Petite\, 5 King Street\, Newcastle\, NSW\, 2300\, Australia
END:VEVENT
END:VCALENDAR
