BEGIN:VCALENDAR
VERSION:2.0
PRODID:-//Squarespace Inc/Squarespace 6//v6//EN
BEGIN:VEVENT
UID:5ae40c95f950b7d2b4fdcf00@squarespace.com
DTSTAMP:20180428T055623Z
DTSTART:20180603T220000Z
DTEND:20180604T010000Z
SUMMARY:Kylie Jane
GEO:-32.929361;151.784828
LOCATION:Bar Petite
END:VEVENT
END:VCALENDAR
