BEGIN:VCALENDAR
VERSION:2.0
PRODID:-//Squarespace Inc/Squarespace 6//v6//EN
BEGIN:VEVENT
UID:5bd58a8871c10b825a0a8415@squarespace.com
DTSTAMP:20181028T101420Z
DTSTART:20181118T010000Z
DTEND:20181118T040000Z
SUMMARY:Michael Peter
END:VEVENT
END:VCALENDAR
