BEGIN:VCALENDAR
VERSION:2.0
PRODID:-//Squarespace Inc/Squarespace 6//v6//EN
BEGIN:VEVENT
UID:5b8a3cc9f950b79a4fcfe83a@squarespace.com
DTSTAMP:20180927T083913Z
DTSTART:20180922T000000Z
DTEND:20180922T030000Z
SUMMARY:Mick Jones
GEO:-32.929264;151.784893
LOCATION:Bar Petite\, 5/5 King Street\, Newcastle\, NSW\, 2300\, Australia
END:VEVENT
END:VCALENDAR
