BEGIN:VCALENDAR
VERSION:2.0
PRODID:-//Squarespace Inc/Squarespace 6//v6//EN
BEGIN:VEVENT
UID:5b8a33fb03ce641ab2e9c251@squarespace.com
DTSTAMP:20180901T064108Z
DTSTART:20180902T000000Z
DTEND:20180902T030000Z
SUMMARY:NANO
END:VEVENT
END:VCALENDAR
