BEGIN:VCALENDAR
VERSION:2.0
PRODID:-//Squarespace Inc/Squarespace 6//v6//EN
BEGIN:VEVENT
UID:5bd58d08e4966b23a9f20a8b@squarespace.com
DTSTAMP:20181028T101943Z
DTSTART:20181128T230000Z
DTEND:20181129T020000Z
SUMMARY:NANO
END:VEVENT
END:VCALENDAR
