BEGIN:VCALENDAR
VERSION:2.0
PRODID:-//Squarespace Inc/Squarespace 6//v6//EN
BEGIN:VEVENT
UID:5ae40bb070a6adc561f9000e@squarespace.com
DTSTAMP:20180428T055730Z
DTSTART:20180429T000000Z
DTEND:20180429T030000Z
SUMMARY:Nano M
GEO:-32.929264;151.784893
LOCATION:Bar Petite\, 5 King Street\, Newcastle\, NSW\, 2300\, Australia
END:VEVENT
END:VCALENDAR
