BEGIN:VCALENDAR
VERSION:2.0
PRODID:-//Squarespace Inc/Squarespace 6//v6//EN
BEGIN:VEVENT
UID:5b8a3759b8a045c95e9ff0f1@squarespace.com
DTSTAMP:20180901T071600Z
DTSTART:20180915T000000Z
DTEND:20180915T030000Z
SUMMARY:Ryan Patrick Daley
END:VEVENT
END:VCALENDAR
