BEGIN:VCALENDAR
VERSION:2.0
PRODID:-//Squarespace Inc/Squarespace 6//v6//EN
BEGIN:VEVENT
UID:5bd5870d4785d302729ab244@squarespace.com
DTSTAMP:20181028T095522Z
DTSTART:20181106T210000Z
DTEND:20181107T000000Z
SUMMARY:Sound of Sunday
END:VEVENT
END:VCALENDAR
