BEGIN:VCALENDAR
VERSION:2.0
PRODID:-//Squarespace Inc/Squarespace 6//v6//EN
BEGIN:VEVENT
UID:5b8a3e7a352f53facc14a484@squarespace.com
DTSTAMP:20180927T083848Z
DTSTART:20180930T000000Z
DTEND:20180930T030000Z
SUMMARY:Truman Smith
GEO:-32.929264;151.784893
LOCATION:Bar Petite\, 5/5 King Street\, Newcastle\, NSW\, 2300\, Australia
END:VEVENT
END:VCALENDAR
