BEGIN:VCALENDAR
VERSION:2.0
PRODID:-//Squarespace Inc/Squarespace 6//v6//EN
BEGIN:VEVENT
UID:5b8a348c6d2a7323d91edfc2@squarespace.com
DTSTAMP:20180901T064732Z
DTSTART:20180902T220000Z
DTEND:20180903T010000Z
SUMMARY:TY
END:VEVENT
END:VCALENDAR
