BEGIN:VCALENDAR
VERSION:2.0
PRODID:-//Squarespace Inc/Squarespace 6//v6//EN
BEGIN:VEVENT
UID:5bd58c8424a69425bd0a47df@squarespace.com
DTSTAMP:20181028T101810Z
DTSTART:20181125T010000Z
DTEND:20181125T040000Z
SUMMARY:TY
END:VEVENT
END:VCALENDAR
